BEGIN:VCALENDAR
VERSION:2.0
PRODID:-//wp-events-plugin.com//7.2.3.1//EN
TZID:America/New_York
X-WR-TIMEZONE:America/New_York
BEGIN:VEVENT
UID:253@debtcollective.org
DTSTART;TZID=America/New_York:20230926T180000
DTEND;TZID=America/New_York:20230926T190000
DTSTAMP:20240406T002911Z
URL:https://debtcollective.org/event/winning-the-fair-share/
SUMMARY:Winning the Fair Share Amendment: Taxing the Rich to Fight Austerit
 y and Debt
DESCRIPTION:\n\nhttps://youtu.be/-0htet_R8TM?si=OyNDN68Bi1kK-85B\n\n\n\n\nf
 eaturing: Max Page\, President of the Massachusetts Teachers Association\,
 Shanique Spalding\, Executive Director of MA Voter Table\, statewide BIPOC
  communities coordinator for the Fair Share Amendment campaignJenn Kauffma
 n\, Chief of Staff\, State Revenue AllianceIan Rhodewalt\, Field Organizer
  for the Western Mass Area Labor Federation\, Western Massachusetts Region
 al Organizer for the Fair Share Amendment campaign\n\n\n\nJoin us to learn
  how the historic victory of the Fair Share Amendment was won in Massachus
 etts last November. How did unions\, community organizations\, and faith b
 ased groups come together to win an amendment to the state constitution th
 at increases the annual income tax on any income over the first million do
 llars a year by a modest four percent? Now that we have the first billion 
 dollars from the Fair Share Amendment in the state budget (paid for by an 
 increased tax on just 20\,000 households)\, what lessons can we share with
  other union led tax justice movements across the country? What are the ne
 xt steps for the Fair Share Amendment and the coalition that won it?\n
CATEGORIES:Event
END:VEVENT
BEGIN:VTIMEZONE
TZID:America/New_York
X-LIC-LOCATION:America/New_York
BEGIN:DAYLIGHT
DTSTART:20230312T030000
TZOFFSETFROM:-0500
TZOFFSETTO:-0400
TZNAME:EDT
END:DAYLIGHT
END:VTIMEZONE
END:VCALENDAR