BEGIN:VCALENDAR
VERSION:2.0
PRODID:-//wp-events-plugin.com//7.2.3.1//EN
TZID:America/New_York
X-WR-TIMEZONE:America/New_York
BEGIN:VEVENT
UID:411@debtcollective.org
DTSTART;TZID=America/New_York:20241212T200000
DTEND;TZID=America/New_York:20241212T213000
DTSTAMP:20241205T212642Z
URL:https://debtcollective.org/event/the-political-development-of-american
 -debt-relief/
SUMMARY: The Political Development of American Debt Relief
DESCRIPTION:\nGovernments at all levels have begun to experiment with vario
 us forms of debt relief\, first during the covid-19 pandemic and now in a 
 bid to mobilize Democratic voters. The recent Supreme Court decisions over
 turning Biden’s student loan forgiveness and rejecting the CDC’s evict
 ion moratorium may suggest that these forays into debt relief were new and
  perhaps even impermissible\, but this form of politics was a regular feat
 ure of American life from the Founding through the Great Depression. We wi
 ll discuss what lessons we can draw from past periods of debtor mobilizati
 on\, to help us understand when debtors are likely to succeed in shaping t
 he law and understand how new demands for debt relief are impacting politi
 cs today.Please consider joining Debt Collective and authors Emily Zacki
 n and Chole N. Thurston for a conversation about their book\, The Politic
 al Development of American Debt Relief.\n
CATEGORIES:Event
LOCATION:https://us02web.zoom.us/j/81759402622?pwd=Z8RvVRKF1Q7VSG4PyLABKvJ6
 IPfiba.1
END:VEVENT
BEGIN:VTIMEZONE
TZID:America/New_York
X-LIC-LOCATION:America/New_York
BEGIN:STANDARD
DTSTART:20241103T010000
TZOFFSETFROM:-0400
TZOFFSETTO:-0500
TZNAME:EST
END:STANDARD
END:VTIMEZONE
END:VCALENDAR