BEGIN:VCALENDAR
VERSION:2.0
PRODID:-//wp-events-plugin.com//7.2.3.1//EN
TZID:America/New_York
X-WR-TIMEZONE:America/New_York
BEGIN:VEVENT
UID:410@debtcollective.org
DTSTART;TZID=America/New_York:20241104T200000
DTEND;TZID=America/New_York:20241104T210000
DTSTAMP:20241030T165255Z
URL:https://debtcollective.org/event/the-corinthian-15-and-beyond/
SUMMARY:The Corinthian 15 and Beyond
DESCRIPTION:\nNearly ten years ago 15 former students at Corinthian College
  declared a student debt strike sparking the movement for broad-based stud
 ent debt cancellation in the United States. Soon students from other schoo
 ls like Art Institute and ITT Tech joined the strike. After many twists an
 d turns and battles most students at Corinthian\, AI and ITT have won full
  cancellation\, and roughly 10% of all student debtors have gotten cancell
 ation. For the first time since 1965 the total amount of student debt has 
 gone down instead of up.\n\n\n\nJoin members of the original Corinthian 15
  debt strike to reflect on the movement\, celebrate our victories\, and an
 alyze our present situation as the fight for group-wide discharges at othe
 r for-profit schools and broad based cancellation enters a new phase.\n\n\
 n\n\n
ATTACH;FMTTYPE=image/jpeg:https://wordpress-cdn-prod.debtcollective.org/wp
 -content/uploads/2024/10/30124734/IMG_8180.png
CATEGORIES:Event
END:VEVENT
BEGIN:VTIMEZONE
TZID:America/New_York
X-LIC-LOCATION:America/New_York
BEGIN:STANDARD
DTSTART:20241103T010000
TZOFFSETFROM:-0400
TZOFFSETTO:-0500
TZNAME:EST
END:STANDARD
END:VTIMEZONE
END:VCALENDAR