BEGIN:VCALENDAR
VERSION:2.0
PRODID:-//wp-events-plugin.com//7.2.3.1//EN
TZID:America/New_York
X-WR-TIMEZONE:America/New_York
BEGIN:VEVENT
UID:139@debtcollective.org
DTSTART;TZID=America/New_York:20230710T200000
DTEND;TZID=America/New_York:20230710T210000
DTSTAMP:20230929T190754Z
URL:https://debtcollective.org/event/the-alternative-university-lessons-fr
 om-bolivarian-venezuela-reading-discussion/
SUMMARY:The Alternative University: Lessons from Bolivarian Venezuela\, rea
 ding &amp\; discussion
DESCRIPTION:\n\nhttps://youtu.be/sQQm1_BdMl8\n\n\n\n\nBased on extensive fi
 eldwork in Venezuela\, The Alternative University outlines the origins and
  day-to-day functioning of the colossal effort of late President Hugo Chá
 vez's government to create a university that challenged national and globa
 l higher education norms. The session will commence with reading from the 
 book and outlining some of its main themes. It will then open a dialogue w
 ill participants about some of the lessons that the book carries and chall
 enges that the Venezuelan experiment poses to the possibility of revolutio
 nary change in higher education.\n
CATEGORIES:Event
END:VEVENT
BEGIN:VTIMEZONE
TZID:America/New_York
X-LIC-LOCATION:America/New_York
BEGIN:DAYLIGHT
DTSTART:20230312T030000
TZOFFSETFROM:-0500
TZOFFSETTO:-0400
TZNAME:EDT
END:DAYLIGHT
END:VTIMEZONE
END:VCALENDAR