BEGIN:VCALENDAR
VERSION:2.0
PRODID:-//wp-events-plugin.com//7.2.3.1//EN
TZID:America/New_York
X-WR-TIMEZONE:America/New_York
BEGIN:VEVENT
UID:252@debtcollective.org
DTSTART;TZID=America/New_York:20230906T190000
DTEND;TZID=America/New_York:20230906T200000
DTSTAMP:20230906T153656Z
URL:https://debtcollective.org/event/tell-the-feds-the-hospitals-are-up-to
 -no-good/
SUMMARY:Tell the Feds: the Hospitals are up to No Good
DESCRIPTION:\nSo-called “nonprofit” hospitals across the country are sq
 ueezing patients in debt collections and court for hospital bills they can
 ’t pay\, often for debt that shouldn’t exist in the first place. The F
 eds are paying attention\, but now we need to push them to act.\n\n\n\nJoi
 n the Debt Collective and our friends at&nbsp\;Dollar For&nbsp\;to learn h
 ow hospital billing practices are driving the growing medical debt crisis 
 – and how we can fight back.\n\n\n\n\n \n \n \n \n\n
CATEGORIES:Event
END:VEVENT
BEGIN:VTIMEZONE
TZID:America/New_York
X-LIC-LOCATION:America/New_York
BEGIN:DAYLIGHT
DTSTART:20230312T030000
TZOFFSETFROM:-0500
TZOFFSETTO:-0400
TZNAME:EDT
END:DAYLIGHT
END:VTIMEZONE
END:VCALENDAR