BEGIN:VCALENDAR
VERSION:2.0
PRODID:-//wp-events-plugin.com//7.2.3.1//EN
TZID:America/New_York
X-WR-TIMEZONE:America/New_York
BEGIN:VEVENT
UID:384@debtcollective.org
DTSTART;TZID=America/New_York:20240821T200000
DTEND;TZID=America/New_York:20240821T210000
DTSTAMP:20240814T010258Z
URL:https://debtcollective.org/event/state-of-the-debtors-union-2/
SUMMARY:State of the Debtors' Union
DESCRIPTION:\nIt's been a dizzying few months\, folks. Join Debt Collective
  members and organizers for our upcoming State of the Debtors' Union call 
 on Wednesday\, August 21 at 8PM ET | 5PM PT as we process where things sta
 nd. We'll unpack recent economic developments\, break down what's going on
  in our current organizing campaigns\, and go over opportunities to plug i
 nto the fight for debt abolition in the months ahead.\n\n\n\nWe'll also be
  joined by a number of writers behind the stories from our recent takeover
  issue with our good friends at In These Times (check out stories from the
  issue here!).\n\n\n\nAlone our debts are a burden. Together they give us 
 power.\n
CATEGORIES:Event
END:VEVENT
BEGIN:VTIMEZONE
TZID:America/New_York
X-LIC-LOCATION:America/New_York
BEGIN:DAYLIGHT
DTSTART:20240310T030000
TZOFFSETFROM:-0500
TZOFFSETTO:-0400
TZNAME:EDT
END:DAYLIGHT
END:VTIMEZONE
END:VCALENDAR