BEGIN:VCALENDAR
VERSION:2.0
PRODID:-//wp-events-plugin.com//7.2.3.1//EN
TZID:America/New_York
X-WR-TIMEZONE:America/New_York
BEGIN:VEVENT
UID:265@debtcollective.org
DTSTART;TZID=America/Los_Angeles:20231102T180000
DTEND;TZID=America/Los_Angeles:20231102T190000
DTSTAMP:20231017T173832Z
URL:https://debtcollective.org/event/seattle-demands-debt-cancellation/
SUMMARY:Seattle Demands Debt Cancellation
DESCRIPTION:\nHundreds of people in your congressional district have filled
  out the Student Debt Release Tool to demand student debt relief. Now it
 ’s time to build our power. Join debtors from your congressional distric
 t to meet and strategize about how to increase the pressure on our elected
  representatives to take action! Please join our meeting on Nov 2nd at 6pm
  PST on zoom. \n
CATEGORIES:Event
END:VEVENT
BEGIN:VTIMEZONE
TZID:America/Los_Angeles
X-LIC-LOCATION:America/Los_Angeles
BEGIN:DAYLIGHT
DTSTART:20230312T030000
TZOFFSETFROM:-0800
TZOFFSETTO:-0700
TZNAME:PDT
END:DAYLIGHT
END:VTIMEZONE
END:VCALENDAR