BEGIN:VCALENDAR
VERSION:2.0
PRODID:-//wp-events-plugin.com//7.2.3.1//EN
TZID:America/New_York
X-WR-TIMEZONE:America/New_York
BEGIN:VEVENT
UID:733@debtcollective.org
DTSTART;TZID=America/New_York:20260430T200000
DTEND;TZID=America/New_York:20260430T210000
DTSTAMP:20260422T165232Z
URL:https://debtcollective.org/event/save-plan-rapid-response-update/
SUMMARY:SAVE Plan: Rapid Response Update
DESCRIPTION:On March 9\, a group of debtors filed a lawsuit (Havens v. U.S
 . Department of Education) to sue the administration alleging that the Dep
 artment’s refusal to implement the SAVE Plan Final Rule violates federal
  administrative law by denying them the relief they are entitled by regula
 tion and statute. One week later\, the same group of debtors asked a judg
 e to reconsider termination of the SAVE Plan. The Department of Justice re
 sponded to the debtors by telling them that they waited too long to interv
 ene\, so they don't have a right to be heard. Now\, we're waiting on the c
 ourt to issue a decision.\n\nIn partnership with Student Debt Crisis Cente
 r and Public Goods Practice\, we’re organizing debtors to demand that 
 the Trump administration protect and fully implement SAVE\, deliver cancel
 lation to qualified debtors\, and restore access to SAVE repayment benefit
 s like lower monthly payments.\n\nThe judicial fight over the future of th
 e SAVE federal student debt repayment plan has left millions of working pe
 ople in limbo. Meanwhile\, many debtors are wondering what to do - should 
 they get out of the SAVE Plan? If so\, when? We will be hosting a rapid re
 sponse call\, in partnership with Public Goods Practice\, on Thursday\, Ap
 ril 30 to explain these developments and discuss next steps for debtors an
 d for the movement.
CATEGORIES:Event
END:VEVENT
BEGIN:VTIMEZONE
TZID:America/New_York
X-LIC-LOCATION:America/New_York
BEGIN:DAYLIGHT
DTSTART:20260308T030000
TZOFFSETFROM:-0500
TZOFFSETTO:-0400
TZNAME:EDT
END:DAYLIGHT
END:VTIMEZONE
END:VCALENDAR