BEGIN:VCALENDAR
VERSION:2.0
PRODID:-//wp-events-plugin.com//7.2.3.1//EN
TZID:America/New_York
X-WR-TIMEZONE:America/New_York
BEGIN:VEVENT
UID:137@debtcollective.org
DTSTART;TZID=America/New_York:20230628T200000
DTEND;TZID=America/New_York:20230628T210000
DTSTAMP:20231003T154158Z
URL:https://debtcollective.org/event/reparative-universities-a-collective-
 unraveling-session-2/
SUMMARY:Reparative Universities - a Collective Unraveling Session 
DESCRIPTION:\n\nhttps://youtu.be/P5GBiRg9Tb0\n\n\n\n\nAs diversity\, equity
  and inclusion efforts play a central and increasingly embattled role in t
 he strategy and resources of higher education\, reparation is rarely offer
 ed as a pathway for transforming higher education. Together\,through engag
 ing with the text  Reparative Universities\, we will work together to com
 e to terms with diversity and what its failures tell us about the colonial
  logics of higher education and think together about how reparative action
 s may intervene to unsettle entrenched ways of knowing and being within un
 iversities. \n
CATEGORIES:Event
LOCATION:\, \, 
X-APPLE-STRUCTURED-LOCATION;VALUE=URI;X-ADDRESS=\, ;X-APPLE-RADIUS=100;X-TI
 TLE=:geo:0,0
END:VEVENT
BEGIN:VTIMEZONE
TZID:America/New_York
X-LIC-LOCATION:America/New_York
BEGIN:DAYLIGHT
DTSTART:20230312T030000
TZOFFSETFROM:-0500
TZOFFSETTO:-0400
TZNAME:EDT
END:DAYLIGHT
END:VTIMEZONE
END:VCALENDAR