BEGIN:VCALENDAR
VERSION:2.0
PRODID:-//wp-events-plugin.com//7.2.3.1//EN
TZID:America/New_York
X-WR-TIMEZONE:America/New_York
BEGIN:VEVENT
UID:109@debtcollective.org
DTSTART;TZID=America/New_York:20230206T193000
DTEND;TZID=America/New_York:20230206T203000
DTSTAMP:20230130T194023Z
URL:https://debtcollective.org/event/rehearsal-space/
SUMMARY:Rehearsal Space
DESCRIPTION:\nMany debtors joined us for our Writers' Room to start brainst
 orming putting those responsible for the Student Debt Crisis on trial. Now
  come to testify as a witness with your Debtors' Story!\n\n\n\nWe are call
 ing on all infuriated debtors to join us on February 6th at 7:30pm ET / 4:
 30pm PT\, no acting experience required.\n
CATEGORIES:Event
END:VEVENT
BEGIN:VTIMEZONE
TZID:America/New_York
X-LIC-LOCATION:America/New_York
BEGIN:STANDARD
DTSTART:20221106T010000
TZOFFSETFROM:-0400
TZOFFSETTO:-0500
TZNAME:EST
END:STANDARD
END:VTIMEZONE
END:VCALENDAR