BEGIN:VCALENDAR
VERSION:2.0
PRODID:-//wp-events-plugin.com//7.2.3.1//EN
TZID:America/New_York
X-WR-TIMEZONE:America/New_York
BEGIN:VEVENT
UID:664@debtcollective.org
DTSTART;TZID=America/New_York:20260325T170000
DTEND;TZID=America/New_York:20260325T183000
DTSTAMP:20260206T155230Z
URL:https://debtcollective.org/event/office-hours-student-loans-filing-you
 r-taxes/
SUMMARY:Office Hours: Student Loans & Filing Your Taxes
DESCRIPTION:This session will cover some Frequently Asked Questions related
  to tax filing and student loans\, and will also provide information about
  free tax filing resources from GetYour Refund.\nIf you haven’t filed yo
 ur taxes yet\, there may be unclaimed refunds and credits that belong to y
 ou. It’s easy to file to get your money! You can file online for free at
  getyourrefund.org/debtcollective.\n*For any debtors with federal student 
 loans in default\, we DO NOT EXPECT that your tax refund will be seized to
  repay your student loan because of the temporary pause on forced collecti
 ons that was announced in January of 2026.\nMore Information about GetYour
 Refund\, a Free Tax Prep Tool\nGetYourRefund is a free tax service that he
 lps Americans with low- and moderate-incomes access free\, trustworthy\, c
 larifying\, and high-quality tax preparation. GetYourRefund.org is the fir
 st-ever free mobile app that helps families complete government forms to a
 ccess all their tax benefits. \n\nGetYourRefund is provided by the nonprof
 it Code for America in partnership with the IRS Volunteer Income Tax Assis
 tance (VITA) program\, select state governments\, and over 80 nonprofit pa
 rtners. Our goal is to help ensure that everyone receives the cash benefit
 s they deserve – including the $15 billion in federal tax benefits that 
 governments are unable to distribute each year. We’re making progress\, 
 but we can’t do it alone. Since 2020\, GetYourRefund has helped 275\,000
  people receive over $1.4 billion in tax benefits.\n\nIf you haven’t fil
 ed your taxes yet\, there may be unclaimed refunds and credits that belong
  to you. It’s easy to file to get your money! You can file online for fr
 ee at GetYourRefund.org.
CATEGORIES:Event
END:VEVENT
BEGIN:VTIMEZONE
TZID:America/New_York
X-LIC-LOCATION:America/New_York
BEGIN:DAYLIGHT
DTSTART:20260308T030000
TZOFFSETFROM:-0500
TZOFFSETTO:-0400
TZNAME:EDT
END:DAYLIGHT
END:VTIMEZONE
END:VCALENDAR