BEGIN:VCALENDAR
VERSION:2.0
PRODID:-//wp-events-plugin.com//7.2.3.1//EN
TZID:America/New_York
X-WR-TIMEZONE:America/New_York
BEGIN:VEVENT
UID:667@debtcollective.org
DTSTART;TZID=America/New_York:20260406T120000
DTEND;TZID=America/New_York:20260406T130000
DTSTAMP:20260206T155127Z
URL:https://debtcollective.org/event/office-hours-student-loans-filing-you
 r-taxes-2/
SUMMARY:Office Hours: Student Loans & Filing Your Taxes
DESCRIPTION:This session will cover some Frequently Asked Questions related
  to tax filing and student loans\, and will also provide information about
  free tax filing resources from GetYour Refund.\nIf you haven’t filed yo
 ur taxes yet\, there may be unclaimed refunds and credits that belong to 
 you. It’s easy to file to get your money! You can file online for free
  at getyourrefund.org/debtcollective.\n*For any debtors with federal stude
 nt loans in default\, we DO NOT EXPECT that your tax refund will be seized
  to repay your student loan because of the temporary pause on forced coll
 ections that was announced in January of 2026.\nMore Information about Ge
 tYourRefund\, a Free Tax Prep Tool\nGetYourRefund is a free tax service th
 at helps Americans with low- and moderate-incomes access free\, trustworth
 y\, clarifying\, and high-quality tax preparation. GetYourRefund.org is th
 e first-ever free mobile app that helps families complete government forms
  to access all their tax benefits.\n\nGetYourRefund is provided by the non
 profit Code for America in partnership with the IRS Volunteer Income Tax A
 ssistance (VITA) program\, select state governments\, and over 80 nonprofi
 t partners. Our goal is to help ensure that everyone receives the cash ben
 efits they deserve – including the $15 billion in federal tax benefits t
 hat governments are unable to distribute each year. We’re making progres
 s\, but we can’t do it alone. Since 2020\, GetYourRefund has helped 275
 \,000 people receive over $1.4 billion in tax benefits.\n\nIf you haven’
 t filed your taxes yet\, there may be unclaimed refunds and credits that 
 belong to you. It’s easy to file to get your money! You can file onlin
 e for free at GetYourRefund.org.
CATEGORIES:Event
END:VEVENT
BEGIN:VTIMEZONE
TZID:America/New_York
X-LIC-LOCATION:America/New_York
BEGIN:DAYLIGHT
DTSTART:20260308T030000
TZOFFSETFROM:-0500
TZOFFSETTO:-0400
TZNAME:EDT
END:DAYLIGHT
END:VTIMEZONE
END:VCALENDAR