BEGIN:VCALENDAR
VERSION:2.0
PRODID:-//wp-events-plugin.com//7.2.3.1//EN
TZID:America/New_York
X-WR-TIMEZONE:America/New_York
BEGIN:VEVENT
UID:678@debtcollective.org
DTSTART;TZID=America/New_York:20260302T170000
DTEND;TZID=America/New_York:20260302T183000
DTSTAMP:20260218T170143Z
URL:https://debtcollective.org/event/office-hours-parent-plus-loans/
SUMMARY:Office Hours: Parent PLUS Loans
DESCRIPTION:RED ALERT! If you have Parent PLUS loans\, you may need to take
  steps well before July 1\, 2026 to make sure your loans qualify for lower
  payments\, PSLF\, and cancellation. Those with PLUS loans should consider
  consolidating their loans to avoid being left out of cancellation and tra
 pped in higher payments. \n\nCome to these office hours to learn about the
  situation facing PLUS borrowers\, take the first steps together to consol
 idate\, and help spread the word to everyone else with PLUS loans.
CATEGORIES:Event
END:VEVENT
BEGIN:VTIMEZONE
TZID:America/New_York
X-LIC-LOCATION:America/New_York
BEGIN:STANDARD
DTSTART:20251102T010000
TZOFFSETFROM:-0400
TZOFFSETTO:-0500
TZNAME:EST
END:STANDARD
END:VTIMEZONE
END:VCALENDAR