BEGIN:VCALENDAR
VERSION:2.0
PRODID:-//wp-events-plugin.com//7.2.3.1//EN
TZID:America/New_York
X-WR-TIMEZONE:America/New_York
BEGIN:VEVENT
UID:671@debtcollective.org
DTSTART;TZID=America/New_York:20260421T193000
DTEND;TZID=America/New_York:20260421T203000
DTSTAMP:20260218T203756Z
URL:https://debtcollective.org/event/office-hours-debtors-in-default-5/
SUMMARY:Office Hours: Debtors in Default
DESCRIPTION:Join us as we discuss options for debtors with federal student 
 loans in default. We will cover options that require repayment\, like reha
 bilitation and consolidation\, as well as options that do not\, like loan 
 cancellation.\n\nFor debtors with federal student loans in default\, we DO
  NOT EXPECT that your tax refund will be seized to repay your student loan
  because of the temporary pause on forced collections that was announced
  in January of 2026. We will also provide information about free tax filin
 g resources from GetYour Refund.\nIf you haven’t filed your taxes yet\, 
 there may be unclaimed refunds and credits that belong to you. It’s ea
 sy to file to get your money! You can file online for free at GetYourRefu
 nd.org.\nCan’t make it\, don’t worry we will have future Higher Ed Of
 fice Hour calls you can see here\, and consider registering to get a recap
  from the call and to be reminded of upcoming calls.\nMore Information abo
 ut GetYourRefund\, a Free Tax Prep Tool\nGetYourRefund is a free tax servi
 ce that helps Americans with low- and moderate-incomes access free\, trust
 worthy\, clarifying\, and high-quality tax preparation. GetYourRefund.org 
 is the first-ever free mobile app that helps families complete government 
 forms to access all their tax benefits.\n\nGetYourRefund is provided by th
 e nonprofit Code for America in partnership with the IRS Volunteer Income 
 Tax Assistance (VITA) program\, select state governments\, and over 80 non
 profit partners. Our goal is to help ensure that everyone receives the cas
 h benefits they deserve – including the $15 billion in federal tax benef
 its that governments are unable to distribute each year. We’re making pr
 ogress\, but we can’t do it alone. Since 2020\, GetYourRefund has helpe
 d 275\,000 people receive over $1.4 billion in tax benefits.\n\nIf you hav
 en’t filed your taxes yet\, there may be unclaimed refunds and credits t
 hat belong to you. It’s easy to file to get your money! You can file 
 online for free at GetYourRefund.org.
CATEGORIES:Event
END:VEVENT
BEGIN:VTIMEZONE
TZID:America/New_York
X-LIC-LOCATION:America/New_York
BEGIN:DAYLIGHT
DTSTART:20260308T030000
TZOFFSETFROM:-0500
TZOFFSETTO:-0400
TZNAME:EDT
END:DAYLIGHT
END:VTIMEZONE
END:VCALENDAR