BEGIN:VCALENDAR
VERSION:2.0
PRODID:-//wp-events-plugin.com//7.2.3.1//EN
TZID:America/New_York
X-WR-TIMEZONE:America/New_York
BEGIN:VEVENT
UID:659@debtcollective.org
DTSTART;TZID=America/New_York:20260319T150000
DTEND;TZID=America/New_York:20260319T160000
DTSTAMP:20260218T203633Z
URL:https://debtcollective.org/event/office-hours-debtors-in-default-4/
SUMMARY:Office Hours: Debtors in Default
DESCRIPTION:\n\n\n\n\n\n\n\n\n\n\n\n\nJoin us as we discuss options for deb
 tors with federal student loans in default. We will cover options that req
 uire repayment\, like rehabilitation and consolidation\, as well as option
 s that do not\, like loan cancellation.\n\n*For any debtors with federal s
 tudent loans in default\, we DO NOT EXPECT that your tax refund will be se
 ized to repay your student loan because of the temporary pause on forced c
 ollections that was announced in January of 2026. We will also provide inf
 ormation about free tax filing resources from GetYour Refund.\nIf you have
 n’t filed your taxes yet\, there may be unclaimed refunds and credits th
 at belong to you. It’s easy to file to get your money! You can file onli
 ne for free at getyourrefund.org/debtcollective.\nCan’t make it\, don’
 t worry we will have future Higher Ed Office Hour calls you can see here\,
  and consider registering to get a recap from the call and to be reminded 
 of upcoming calls.\nMore Information about GetYourRefund\, a Free Tax Prep
  Tool\nGetYourRefund is a free tax service that helps Americans with low- 
 and moderate-incomes access free\, trustworthy\, clarifying\, and high-qua
 lity tax preparation. GetYourRefund.org is the first-ever free mobile app 
 that helps families complete government forms to access all their tax bene
 fits. \n\nGetYourRefund is provided by the nonprofit Code for America in p
 artnership with the IRS Volunteer Income Tax Assistance (VITA) program\, s
 elect state governments\, and over 80 nonprofit partners. Our goal is to h
 elp ensure that everyone receives the cash benefits they deserve – inclu
 ding the $15 billion in federal tax benefits that governments are unable t
 o distribute each year. We’re making progress\, but we can’t do it alo
 ne. Since 2020\, GetYourRefund has helped 275\,000 people receive over $1.
 4 billion in tax benefits.\n\nIf you haven’t filed your taxes yet\, ther
 e may be unclaimed refunds and credits that belong to you. It’s easy to 
 file to get your money! You can file online for free at GetYourRefund.org.
 \n\n\n\n\n\n\n\n\n\n\n\n\n\n
CATEGORIES:Event
END:VEVENT
BEGIN:VTIMEZONE
TZID:America/New_York
X-LIC-LOCATION:America/New_York
BEGIN:DAYLIGHT
DTSTART:20260308T030000
TZOFFSETFROM:-0500
TZOFFSETTO:-0400
TZNAME:EDT
END:DAYLIGHT
END:VTIMEZONE
END:VCALENDAR