BEGIN:VCALENDAR
VERSION:2.0
PRODID:-//wp-events-plugin.com//7.2.3.1//EN
TZID:America/New_York
X-WR-TIMEZONE:America/New_York
BEGIN:VEVENT
UID:296@debtcollective.org
DTSTART;TZID=America/New_York:20240215T200000
DTEND;TZID=America/New_York:20240215T210000
DTSTAMP:20241122T015628Z
URL:https://debtcollective.org/event/newmembercall224/
SUMMARY:New Member Call
DESCRIPTION:\nAre you new to Debt Collective? Do you want to learn more abo
 ut our union and get involved in our organizing efforts? Join us for our n
 ew member call at 8:00 PM ET / 7:00 PM CT / 6:00 PM MT / 5:00 PM PT!\n
CATEGORIES:Call
END:VEVENT
BEGIN:VTIMEZONE
TZID:America/New_York
X-LIC-LOCATION:America/New_York
BEGIN:STANDARD
DTSTART:20231105T010000
TZOFFSETFROM:-0400
TZOFFSETTO:-0500
TZNAME:EST
END:STANDARD
END:VTIMEZONE
END:VCALENDAR