BEGIN:VCALENDAR
VERSION:2.0
PRODID:-//wp-events-plugin.com//7.2.3.1//EN
TZID:America/New_York
X-WR-TIMEZONE:America/New_York
BEGIN:VEVENT
UID:344@debtcollective.org
DTSTART;TZID=America/New_York:20240429T200000
DTEND;TZID=America/New_York:20240429T210000
DTSTAMP:20241120T204621Z
URL:https://debtcollective.org/event/new-member-call-6/
SUMMARY:New Member Call
DESCRIPTION:\nAre you new to our debtor's union? Join us on April 29th at 8
 pm ET for our monthly new member call! We will dive into the history of ou
 r movements\, what a debtor's union can achieve\, and our latest organizin
 g efforts. \n\n\n\nAlone our debts are a burden. Together they make us pow
 erful.\n
CATEGORIES:Event
LOCATION:https://us02web.zoom.us/j/86352613119?pwd=MHhyL1g3eW1pb051Q3JUOVR6
 M2ZPZz09
END:VEVENT
BEGIN:VTIMEZONE
TZID:America/New_York
X-LIC-LOCATION:America/New_York
BEGIN:DAYLIGHT
DTSTART:20240310T030000
TZOFFSETFROM:-0500
TZOFFSETTO:-0400
TZNAME:EDT
END:DAYLIGHT
END:VTIMEZONE
END:VCALENDAR