BEGIN:VCALENDAR
VERSION:2.0
PRODID:-//wp-events-plugin.com//7.2.3.1//EN
TZID:America/New_York
X-WR-TIMEZONE:America/New_York
BEGIN:VEVENT
UID:92@debtcollective.org
DTSTART;TZID=America/New_York:20230123T203000
DTEND;TZID=America/New_York:20230123T213000
DTSTAMP:20230112T225537Z
URL:https://debtcollective.org/event/new-member-call-1-16-23-2/
SUMMARY:New Member Call
DESCRIPTION:\nAre you new to Debt Collective? Do you want to learn more abo
 ut our union and our current campaigns? Join us for our new member call on
  Jan 23rd at 8:30 PM ET / 7:30 PM CT / 6:30 PM MT / 5:30 PM PT.\n
CATEGORIES:Call
LOCATION:https://us02web.zoom.us/meeting/register/tZ0rdOGqrDMpGNbBHhksk8zk1
 JmpylCG2YKn
END:VEVENT
BEGIN:VTIMEZONE
TZID:America/New_York
X-LIC-LOCATION:America/New_York
BEGIN:STANDARD
DTSTART:20221106T010000
TZOFFSETFROM:-0400
TZOFFSETTO:-0500
TZNAME:EST
END:STANDARD
END:VTIMEZONE
END:VCALENDAR