BEGIN:VCALENDAR
VERSION:2.0
PRODID:-//wp-events-plugin.com//7.2.3.1//EN
TZID:America/New_York
X-WR-TIMEZONE:America/New_York
BEGIN:VEVENT
UID:357@debtcollective.org
DTSTART;TZID=America/New_York:20240515T190000
DTEND;TZID=America/New_York:20240515T193000
DTSTAMP:20240510T151031Z
URL:https://debtcollective.org/event/national-debt-collective-action-train
 ing-call/
SUMMARY:National Action Info Session
DESCRIPTION:\nWe will discuss our upcoming National Action and how you can 
 join others in a call to Biden to say loud an clear to 'Fund Education\, N
 ot Genocide'! Join us on May 15th at 7:00pm ET / 4:00pm PT on zoom\, regis
 tration button below.\n
CATEGORIES:Event
END:VEVENT
BEGIN:VTIMEZONE
TZID:America/New_York
X-LIC-LOCATION:America/New_York
BEGIN:DAYLIGHT
DTSTART:20240310T030000
TZOFFSETFROM:-0500
TZOFFSETTO:-0400
TZNAME:EDT
END:DAYLIGHT
END:VTIMEZONE
END:VCALENDAR