BEGIN:VCALENDAR
VERSION:2.0
PRODID:-//wp-events-plugin.com//7.2.3.1//EN
TZID:America/New_York
X-WR-TIMEZONE:America/New_York
BEGIN:VEVENT
UID:395@debtcollective.org
DTSTART;TZID=America/New_York:20241029T200000
DTEND;TZID=America/New_York:20241029T210000
DTSTAMP:20241014T161341Z
URL:https://debtcollective.org/event/medicalizing-inequality/
SUMMARY:Medicalizing Inequity: The Risks of Financial Wellness for Workers
DESCRIPTION:\nJoin us in conversation with sociologist\, writer\, educator\
 , and editor\, Tamara K. Nopper to discuss her groundbreaking Data &amp\; 
 Society&nbsp\;report&nbsp\;on the alarming risks of financial wellness.\n\
 n\n\nFinancial wellness is a particular rebranding of financial literacy t
 hat incorporates medicalized frameworks and practices appropriated from pu
 blic health and medicine and couples it with a purported concern about ins
 titutional inequality and predatory lending. Today\, financial wellness is
  promoted as a solution to people’s stress and money problems related to
  the debt crisis\, inflation\, credit scoring\, and racism.\n\n\n\nOur con
 versation will examine the risks of financial wellness\, including how it 
 conceptualizes disparities in power\, capital\, and status as individual o
 r community health issues instead of as organized structural inequality\, 
 how it encourages more financialization and the maintaining of a debt econ
 omy\, and how it normalizes organized abandonment––where the state pla
 ys a limited role in providing public goods and services. Participants are
  invited to ask the question: who ultimately benefits from framing financi
 al status as a matter of health?\n
ATTACH;FMTTYPE=image/jpeg:https://wordpress-cdn-prod.debtcollective.org/wp
 -content/uploads/2024/09/11112001/slack-imgs.jpg
CATEGORIES:Event
LOCATION:https://us02web.zoom.us/j/86887035147?pwd=5HqYjlaVZ9ry0xTrhLTOShPG
 vXAZ1z.1
END:VEVENT
BEGIN:VTIMEZONE
TZID:America/New_York
X-LIC-LOCATION:America/New_York
BEGIN:DAYLIGHT
DTSTART:20240310T030000
TZOFFSETFROM:-0500
TZOFFSETTO:-0400
TZNAME:EDT
END:DAYLIGHT
END:VTIMEZONE
END:VCALENDAR