BEGIN:VCALENDAR
VERSION:2.0
PRODID:-//wp-events-plugin.com//7.2.3.1//EN
TZID:America/New_York
X-WR-TIMEZONE:America/New_York
BEGIN:VEVENT
UID:728@debtcollective.org
DTSTART;TZID=America/Los_Angeles:20260407T173000
DTEND;TZID=America/Los_Angeles:20260407T190000
DTSTAMP:20260402T224834Z
URL:https://debtcollective.org/event/la-seattle-tenants-fighting-rubs/
SUMMARY:LA & Seattle Tenants: Fighting RUBS!
DESCRIPTION:Join tenants from Los Angeles and Seattle for an online Zoom me
 eting on Tuesday\, April 7th at 5:30 PM (Pacific) to talk about the fights
  in both our cities against RUBS (Ratio Utility Billing Systems)\, which l
 andlords use to add hundreds of dollars on top of tenants’ rent. We’ll
  be joined by lawyers from the National Consumer Law Center and tenants wh
 o are organized\, on strike\, and working to change the law.\n\n&nbsp\;
ATTACH;FMTTYPE=image/jpeg:https://wordpress-cdn-prod.debtcollective.org/wp
 -content/uploads/2026/04/02184542/la-seattle-banrubs-event-april-2026-v3-e
 1775170089357.png
CATEGORIES:Call,Event
LOCATION:https://debtcollective-org.zoom.us/meeting/register/bKj6WksgQ6qLv9
 JrDDm6zA#/registration
END:VEVENT
BEGIN:VTIMEZONE
TZID:America/Los_Angeles
X-LIC-LOCATION:America/Los_Angeles
BEGIN:DAYLIGHT
DTSTART:20260308T030000
TZOFFSETFROM:-0800
TZOFFSETTO:-0700
TZNAME:PDT
END:DAYLIGHT
END:VTIMEZONE
END:VCALENDAR