BEGIN:VCALENDAR
VERSION:2.0
PRODID:-//wp-events-plugin.com//7.2.3.1//EN
TZID:America/New_York
X-WR-TIMEZONE:America/New_York
BEGIN:VEVENT
UID:122@debtcollective.org
DTSTART;TZID=America/Los_Angeles:20230420T170000
DTEND;TZID=America/Los_Angeles:20230420T180000
DTSTAMP:20230223T014817Z
URL:https://debtcollective.org/event/la-branch-meeting/
SUMMARY:Jubilee School Carceral Debt Series: Cars\, Poverty\, & Incarcerati
 on
DESCRIPTION:\nJoin us for a discussion on the ways cars\, fines and fees\, 
 and traffic stops work in tandem with racialized policing to exacerbate ma
 rginalized communities with large debts\n
CATEGORIES:Event
LOCATION:https://us02web.zoom.us/j/86498474697?pwd=Y1dFWDM1YUF2dGJNWW56RVpq
 aU5QQT09
END:VEVENT
BEGIN:VTIMEZONE
TZID:America/Los_Angeles
X-LIC-LOCATION:America/Los_Angeles
BEGIN:DAYLIGHT
DTSTART:20230312T030000
TZOFFSETFROM:-0800
TZOFFSETTO:-0700
TZNAME:PDT
END:DAYLIGHT
END:VTIMEZONE
END:VCALENDAR