BEGIN:VCALENDAR
VERSION:2.0
PRODID:-//wp-events-plugin.com//7.2.3.1//EN
TZID:America/New_York
X-WR-TIMEZONE:America/New_York
BEGIN:VEVENT
UID:123@debtcollective.org
DTSTART;TZID=America/Los_Angeles:20230225T150000
DTEND;TZID=America/Los_Angeles:20230225T160000
DTSTAMP:20230223T015153Z
URL:https://debtcollective.org/event/la-branch-meeting-2/
SUMMARY:LA branch Meeting
DESCRIPTION:\nJoin the local LA branch as they meet virtually to discuss or
 ganizing efforts in LA and California\n
CATEGORIES:Call
LOCATION:https://us02web.zoom.us/j/87299987251?pwd=MlNPUnZ0N1BKbTg0dXlwRmFC
 UG9OQT09
END:VEVENT
BEGIN:VTIMEZONE
TZID:America/Los_Angeles
X-LIC-LOCATION:America/Los_Angeles
BEGIN:STANDARD
DTSTART:20221106T010000
TZOFFSETFROM:-0700
TZOFFSETTO:-0800
TZNAME:PST
END:STANDARD
END:VTIMEZONE
END:VCALENDAR