BEGIN:VCALENDAR
VERSION:2.0
PRODID:-//wp-events-plugin.com//7.2.3.1//EN
TZID:America/New_York
X-WR-TIMEZONE:America/New_York
BEGIN:VEVENT
UID:483@debtcollective.org
DTSTART;TZID=America/New_York:20250625T110000
DTEND;TZID=America/New_York:20250625T130000
DTSTAMP:20250620T221701Z
URL:https://debtcollective.org/event/kill-the-bill-before-it-kills-us-all/
SUMMARY:Kill the Bill Before it Kills us All
DESCRIPTION:\n\nRSVP HERE\n\n\n\n\n\n\n\n\n\n\n\n\n\n
CATEGORIES:Event
LOCATION:Dirksen Senate Building 215\, 50 Constitution Ave NE\, Washington\
 , DC\, 20002\, United States
GEO:38.892539;-77.005372
X-APPLE-STRUCTURED-LOCATION;VALUE=URI;X-ADDRESS=50 Constitution Ave NE\, Wa
 shington\, DC\, 20002\, United States;X-APPLE-RADIUS=100;X-TITLE=Dirksen S
 enate Building 215:geo:38.892539,-77.005372
END:VEVENT
BEGIN:VTIMEZONE
TZID:America/New_York
X-LIC-LOCATION:America/New_York
BEGIN:DAYLIGHT
DTSTART:20250309T030000
TZOFFSETFROM:-0500
TZOFFSETTO:-0400
TZNAME:EDT
END:DAYLIGHT
END:VTIMEZONE
END:VCALENDAR