BEGIN:VCALENDAR
VERSION:2.0
PRODID:-//wp-events-plugin.com//7.2.3.1//EN
TZID:America/New_York
X-WR-TIMEZONE:America/New_York
BEGIN:VEVENT
UID:120@debtcollective.org
DTSTART;TZID=America/New_York:20230223T200000
DTEND;TZID=America/New_York:20230223T210000
DTSTAMP:20230223T013916Z
URL:https://debtcollective.org/event/jubilee-school-series-black-futures-c
 arceral-debt/
SUMMARY:Jubilee School Series: Black Futures & Carceral Debt
DESCRIPTION:\nJoin us for a discussion in collaboration with Debt Free Just
 ice on the impacts carceral debt has had on the Black community and how we
  can work together to reimagine Black Futures.\n
CATEGORIES:Event
LOCATION:https://us06web.zoom.us/webinar/register/WN_QVK5vqdsRn24Zky2JVx3Og
 ?utm_source=socials&utm_medium=socials&utm_campaign=debtcollective
END:VEVENT
BEGIN:VTIMEZONE
TZID:America/New_York
X-LIC-LOCATION:America/New_York
BEGIN:STANDARD
DTSTART:20221106T010000
TZOFFSETFROM:-0400
TZOFFSETTO:-0500
TZNAME:EST
END:STANDARD
END:VTIMEZONE
END:VCALENDAR