BEGIN:VCALENDAR
VERSION:2.0
PRODID:-//wp-events-plugin.com//7.2.3.1//EN
TZID:America/New_York
X-WR-TIMEZONE:America/New_York
BEGIN:VEVENT
UID:407@debtcollective.org
DTSTART;TZID=America/New_York:20241120T200000
DTEND;TZID=America/New_York:20241120T213000
DTSTAMP:20241115T190727Z
URL:https://debtcollective.org/event/jubilee-school-fund-healthcare-not-ge
 nocide/
SUMMARY:Jubilee School: Fund Healthcare\, Not Genocide with Healthcare Work
 ers for Palestine
DESCRIPTION:\nOur healthcare system is killing us. Millions in the U.S. are
  in medical debt and thousands die each year from lack of access to health
 care\, insured or not. The financialization and bloated admin costs of the
  medical industrial complex mean we all pay more while the quality of care
  declines and healthcare working conditions worsen. Yet nothing seems to c
 hange.\n\n\n\nMeanwhile\, the U.S. sends billions of dollars a year to Isr
 ael for tools of death and destruction. And for over a year now\, we have 
 watched as those weapons have been used to carry out a genocide on the Pal
 estinian people and an all-out attack on the healthcare system in Gaza and
  the Occupied Territories.\n\n\n\nThese things are all interconnected.\n\n
 \n\nJoin us for a Jubilee School with Healthcare Workers For Palestine on 
 Wednesday\, November 20\, 2024 at 8PM ET / 5PM PT. We will discuss the sta
 te of the health systems here and in Palestine and hear healthcare workers
 ’ personal experiences. We’ll dig into the ways that these systems are
  tied to each other and how we can fight for liberation from the powers th
 at facilitate violence both at home and abroad.\n
ATTACH;FMTTYPE=image/jpeg:https://wordpress-cdn-prod.debtcollective.org/wp
 -content/uploads/2024/10/15140717/Untitled-design-4.png
CATEGORIES:Event
END:VEVENT
BEGIN:VTIMEZONE
TZID:America/New_York
X-LIC-LOCATION:America/New_York
BEGIN:STANDARD
DTSTART:20241103T010000
TZOFFSETFROM:-0400
TZOFFSETTO:-0500
TZNAME:EST
END:STANDARD
END:VTIMEZONE
END:VCALENDAR