BEGIN:VCALENDAR
VERSION:2.0
PRODID:-//wp-events-plugin.com//7.2.3.1//EN
TZID:America/New_York
X-WR-TIMEZONE:America/New_York
BEGIN:VEVENT
UID:308@debtcollective.org
DTSTART;TZID=America/New_York:20240222T200000
DTEND;TZID=America/New_York:20240222T210000
DTSTAMP:20240222T003734Z
URL:https://debtcollective.org/event/hold-black-debtors-call/
SUMMARY:Black Debtors Call
DESCRIPTION:\nLooking for Black folks with household debt (student\, medica
 l\, housing\, credit card\, criminal legal etc) to join us for a 4-week pi
 lot project to further investigate the relationship between Blackness and 
 indebtedness. Join us for our kickoff call on Thursday\, February 22 at 5p
 m PT / 8pm ET!\n
CATEGORIES:Call
LOCATION:https://us02web.zoom.us/j/83527632853?pwd=QzNWV1J3cGlLdjZLc3IyTzNj
 dGxFdz09
END:VEVENT
BEGIN:VTIMEZONE
TZID:America/New_York
X-LIC-LOCATION:America/New_York
BEGIN:STANDARD
DTSTART:20231105T010000
TZOFFSETFROM:-0400
TZOFFSETTO:-0500
TZNAME:EST
END:STANDARD
END:VTIMEZONE
END:VCALENDAR