BEGIN:VCALENDAR
VERSION:2.0
PRODID:-//wp-events-plugin.com//7.2.3.1//EN
TZID:America/New_York
X-WR-TIMEZONE:America/New_York
BEGIN:VEVENT
UID:737@debtcollective.org
DTSTART;TZID=America/New_York:20260805T193000
DTEND;TZID=America/New_York:20260805T203000
DTSTAMP:20260423T213900Z
URL:https://debtcollective.org/event/higher-ed-monthly-meeting-3/
SUMMARY:Higher Ed Monthly Meeting
DESCRIPTION:If you're wondering what's going on with your student loans or 
 how to get involved with the Debt Collective's higher education campaigns\
 , come join us at our monthly office hours. We will cover some common ques
 tions\, such as:\n\n 	What on earth is going on with student loan policy r
 ight now?\n 	What do I do about my loans?\n\n 	What about the SAVE Plan?\n
  	What if my loan is in default status?\n\n\n 	What is Debt Collective doi
 ng about all of this?\n 	How can I get involved with what the Debt Collect
 ive is doing?\n\nPlease bring your questions and we'll see you soon!
CATEGORIES:Event
END:VEVENT
BEGIN:VTIMEZONE
TZID:America/New_York
X-LIC-LOCATION:America/New_York
BEGIN:DAYLIGHT
DTSTART:20260308T030000
TZOFFSETFROM:-0500
TZOFFSETTO:-0400
TZNAME:EDT
END:DAYLIGHT
END:VTIMEZONE
END:VCALENDAR