BEGIN:VCALENDAR
VERSION:2.0
PRODID:-//wp-events-plugin.com//7.2.3.1//EN
TZID:America/New_York
X-WR-TIMEZONE:America/New_York
BEGIN:VEVENT
UID:546@debtcollective.org
DTSTART;TZID=America/New_York:20251111T200000
DTEND;TZID=America/New_York:20251111T210000
DTSTAMP:20251009T023913Z
URL:https://debtcollective.org/event/finding-each-other-and-the-stakes-of-
 public-education/
SUMMARY:Finding Each Other and the Stakes of Public Education
DESCRIPTION:What opportunities do our present combined crises—of austerit
 y and intensified facism—present us with in considering how we struggle 
 over\, or through public schools that have at once been sites of harm and 
 violence\; and also infrastructures through which communities forge surviv
 ance\, solidarity\, and a praxis of sanctuary? As it becomes increasingly 
 clear that a return to “normal” is only an affirmation of violence\, h
 ow can we rework the public as we struggle through it: to widen the terrai
 n and terms of struggle\, root spaces of relation where we find each other
 \, expand our political horizons— and grow fierce\, loving\, and dangero
 us solidarities towards collective liberation? \n\nPresented by:\nUjju Agg
 arwal is Assistant Professor of Anthropology and Experiential Learning at 
 The New School and author of Unsettling Choice: Race\, Rights\, and the Pa
 rtitioning of Public Education (University of Minnesota Press\, 2024). She
  brings a long history of  working to build organizing for educational jus
 tice\, immigrants’ rights\, and abolition.
CATEGORIES:Event
LOCATION:https://us02web.zoom.us/j/82527129953?pwd=kpddIW2XyOkJhM5GDOTDhmZy
 aV3Mb3.1
END:VEVENT
BEGIN:VTIMEZONE
TZID:America/New_York
X-LIC-LOCATION:America/New_York
BEGIN:STANDARD
DTSTART:20251102T010000
TZOFFSETFROM:-0400
TZOFFSETTO:-0500
TZNAME:EST
END:STANDARD
END:VTIMEZONE
END:VCALENDAR