BEGIN:VCALENDAR
VERSION:2.0
PRODID:-//wp-events-plugin.com//7.2.3.1//EN
TZID:America/New_York
X-WR-TIMEZONE:America/New_York
BEGIN:VEVENT
UID:388@debtcollective.org
DTSTART;TZID=America/New_York:20240829T190000
DTEND;TZID=America/New_York:20240829T200000
DTSTAMP:20240816T200342Z
URL:https://debtcollective.org/event/fifty-over-fifty-debt-story-workshop-
 part-i-story-sharing-aug-29/
SUMMARY:Fifty Over Fifty Debt Story Workshop: Part II\, Story Sharing - Aug
  29
DESCRIPTION:\nAre you a student debtor over 50? Join our Fifty Over Fifty a
 s we prepare our debt stories for an upcoming action in September focused 
 on our older debtors calling for debt cancellation! We are holding a two p
 art story workshop in August where we will get debtors to write and share 
 their powerful debt stories highlighting student debt as an issue facing t
 hose nearing or at retirement and what it means to be an older debtor.Our 
 Part I\, Script Writing workshop (Aug 22nd) will focus on writing and edit
 ing your debt story. Be on the lookout after you register for a worksheet 
 to fill out before the meeting to be able to draft your debt story.Our Par
 t II\, Story Sharing workshop (Aug 29th) will focus on practicing sharing 
 your story for the upcoming action in September as we highlight student de
 bt as an issue that faces not just those right out of college but is deepl
 y impacting older debtors.Reach out to nick@debtcollective.org with any qu
 estions!\n
CATEGORIES:Event
END:VEVENT
BEGIN:VTIMEZONE
TZID:America/New_York
X-LIC-LOCATION:America/New_York
BEGIN:DAYLIGHT
DTSTART:20240310T030000
TZOFFSETFROM:-0500
TZOFFSETTO:-0400
TZNAME:EDT
END:DAYLIGHT
END:VTIMEZONE
END:VCALENDAR