BEGIN:VCALENDAR
VERSION:2.0
PRODID:-//wp-events-plugin.com//7.2.3.1//EN
TZID:America/New_York
X-WR-TIMEZONE:America/New_York
BEGIN:VEVENT
UID:394@debtcollective.org
DTSTART;TZID=America/New_York:20240905T190000
DTEND;TZID=America/New_York:20240905T200000
DTSTAMP:20240904T143718Z
URL:https://debtcollective.org/event/fifty-over-fifty-debt-story-workshop-
 final-prep-sept-5th/
SUMMARY:Fifty Over Fifty Debt Story Workshop: Final Prep - Sept 5th
DESCRIPTION:\nAre you a student debtor over 50? Join our Fifty Over Fifty a
 s we prepare our debt stories for an upcoming action in September focused 
 on our older debtors calling for debt cancellation! We are holding a story
  workshop where we will get debtors to write and share their powerful debt
  stories highlighting student debt as an issue facing those nearing or at 
 retirement and what it means to be an older debtor.We had Part I &amp\; II
 \, more info on those below\, now is time for one more time of coming toge
 ther before our action announcement and our action next week!Join us to pr
 actice\, record\, and share our debt stories!Reach out to nick@debtcollect
 ive.org with any questions!\n
CATEGORIES:Event
END:VEVENT
BEGIN:VTIMEZONE
TZID:America/New_York
X-LIC-LOCATION:America/New_York
BEGIN:DAYLIGHT
DTSTART:20240310T030000
TZOFFSETFROM:-0500
TZOFFSETTO:-0400
TZNAME:EDT
END:DAYLIGHT
END:VTIMEZONE
END:VCALENDAR