BEGIN:VCALENDAR
VERSION:2.0
PRODID:-//wp-events-plugin.com//7.2.3.1//EN
TZID:America/New_York
X-WR-TIMEZONE:America/New_York
BEGIN:VEVENT
UID:285@debtcollective.org
DTSTART;TZID=America/New_York:20231213T190000
DTEND;TZID=America/New_York:20231213T200000
DTSTAMP:20231207T102052Z
URL:https://debtcollective.org/event/educator-caucus-monthly-meeting-3/
SUMMARY:Educator Caucus Monthly Meeting
DESCRIPTION:\nWe will have a Caucus zoom meeting at 7:00pm EDT. During th
 ese meetings you will meet other educators in the caucus\, and we will dis
 cuss tactics and strategies for eliminating all forms of education debt th
 at impacts our lives\, our teaching\, our students\, and our communities. 
 Each quarter you will receive a short newsletter that includes current eve
 nts related to K-12 debt.\n\n\n\nReach out to Jason@debtcollective.org wit
 h any questions.\n
CATEGORIES:Event
END:VEVENT
BEGIN:VTIMEZONE
TZID:America/New_York
X-LIC-LOCATION:America/New_York
BEGIN:STANDARD
DTSTART:20231105T010000
TZOFFSETFROM:-0400
TZOFFSETTO:-0500
TZNAME:EST
END:STANDARD
END:VTIMEZONE
END:VCALENDAR