BEGIN:VCALENDAR
VERSION:2.0
PRODID:-//wp-events-plugin.com//7.2.3.1//EN
TZID:America/New_York
X-WR-TIMEZONE:America/New_York
BEGIN:VEVENT
UID:71@debtcollective.org
DTSTART;TZID=America/New_York:20220317T110000
DTEND;TZID=America/New_York:20220317T120000
DTSTAMP:20230111T213430Z
URL:https://debtcollective.org/event/democracy-now-appearance/
SUMMARY:Democracy Now Appearance
DESCRIPTION:\nWe went on Democracy Now! this morning to push for full stude
 nt debt cancelation and encourage folks to join us in Washington\, D.C. on
  April 4th at the Department of Education. Our message: Pick Up The Pen\, 
 Joe.\n\n\n\n\nhttps://www.youtube.com/watch?time_continue=1&amp\;v=7tvG-hB
 YKl0&amp\;feature=emb_logo\n\n\n\n\n\nWe went on Democracy Now! this morni
 ng to push for full student debt cancelation and encourage folks to join u
 s in Washington\, D.C. on April 4th at the Department of Education. Our me
 ssage: Pick Up The Pen\, Joe.\n\n\n\n\n\nnly has he failed to keep that pr
 omise\, the Biden administration is actually being quite harsh on student 
 debtors. And only because of the pressure that the Debt Collective and oth
 er allies do we have a moratorium that extends through May."\n\n
END:VEVENT
BEGIN:VTIMEZONE
TZID:America/New_York
X-LIC-LOCATION:America/New_York
BEGIN:DAYLIGHT
DTSTART:20220313T030000
TZOFFSETFROM:-0500
TZOFFSETTO:-0400
TZNAME:EDT
END:DAYLIGHT
END:VTIMEZONE
END:VCALENDAR