BEGIN:VCALENDAR
VERSION:2.0
PRODID:-//wp-events-plugin.com//7.2.3.1//EN
TZID:America/New_York
X-WR-TIMEZONE:America/New_York
BEGIN:VEVENT
UID:609@debtcollective.org
DTSTART;TZID=America/Los_Angeles:20260228T130000
DTEND;TZID=America/Los_Angeles:20260228T150000
DTSTAMP:20260202T163408Z
URL:https://debtcollective.org/event/debtors-assembly-portland/
SUMMARY:Debtors Assembly - Portland\, Oregon
DESCRIPTION:Join us for a Debtors Assembly in Portland Oregon. Whether you 
 have student debt\, medical debt or another type of debt we invite you to 
 join us. We also welcome those who are educators\, current students\, or c
 are deeply about these issues we invite you to join us as well.\n\nThese a
 ssemblies are a chance for us to start talking with each other about our d
 ebts. When we share our experiences of debt and economic pressure with ea
 ch other\, we begin to see our collective power to change the systems that
  exploit us. Everyone is welcome to participate in this debtors assembly\,
  whether or not you are currently debt-burdened. Join us as we organize an
 d share knowledge with one another and discuss ways to take action against
  these debts and predatory systems that shape our realities!\n\nWe plan to
  focus more on student debt at this assembly but are welcome and open to d
 iscussion around other debt types.\n\n\n
CATEGORIES:Event
LOCATION:Friendly House PDX\, 1737 NW 26th Ave\, Portland \, OR\, 97210\, U
 nited States
GEO:45.535191;-122.705273
X-APPLE-STRUCTURED-LOCATION;VALUE=URI;X-ADDRESS=1737 NW 26th Ave\, Portland
  \, OR\, 97210\, United States;X-APPLE-RADIUS=100;X-TITLE=Friendly House P
 DX:geo:45.535191,-122.705273
END:VEVENT
BEGIN:VTIMEZONE
TZID:America/Los_Angeles
X-LIC-LOCATION:America/Los_Angeles
BEGIN:STANDARD
DTSTART:20251102T010000
TZOFFSETFROM:-0700
TZOFFSETTO:-0800
TZNAME:PST
END:STANDARD
END:VTIMEZONE
END:VCALENDAR