BEGIN:VCALENDAR
VERSION:2.0
PRODID:-//wp-events-plugin.com//7.2.3.1//EN
TZID:America/New_York
X-WR-TIMEZONE:America/New_York
BEGIN:VEVENT
UID:386@debtcollective.org
DTSTART;TZID=America/New_York:20240828T200000
DTEND;TZID=America/New_York:20240828T213000
DTSTAMP:20240819T182209Z
URL:https://debtcollective.org/event/debt-policing-a-talk-on-how-to-lose-t
 he-hounds/
SUMMARY:Debt &amp\; Policing: A Talk On How to Lose the Hounds
DESCRIPTION:\nJoin us for a conversation with Celeste Winston as we explore
  her book\, "How to Lose the Hounds: Maroon Geographies and a World beyond
  Policing." This thought-provoking event centers police abolition and conn
 ects slavery-era Black freedom struggles with contemporary efforts to envi
 sion a world without policing. Amid rising calls for abolition\, her work 
 delves into long-standing ways to secure public safety and community well-
 being without police.\n\n\n\nWinston’s book also examines the intersecti
 ons of debt and policing in Black communities and highlights Black coopera
 tive economic models rooted in marronage\, revealing how these models have
  historically secured autonomy and safety.\n\n\n\nDon't miss this opportun
 ity to engage in a vital conversation about reimagining public safety and 
 fostering community resilience. You can purchase her book from the Duke Un
 iversity Press here!\n
ATTACH;FMTTYPE=image/jpeg:https://wordpress-cdn-prod.debtcollective.org/wp
 -content/uploads/2024/07/19142140/abolition.jpg
CATEGORIES:Event
LOCATION:https://us02web.zoom.us/j/81345224969?pwd=lPkfSXs6pCenXeHNb1qtg93G
 zd2x7y.1
END:VEVENT
BEGIN:VTIMEZONE
TZID:America/New_York
X-LIC-LOCATION:America/New_York
BEGIN:DAYLIGHT
DTSTART:20240310T030000
TZOFFSETFROM:-0500
TZOFFSETTO:-0400
TZNAME:EDT
END:DAYLIGHT
END:VTIMEZONE
END:VCALENDAR