BEGIN:VCALENDAR
VERSION:2.0
PRODID:-//wp-events-plugin.com//7.2.3.1//EN
TZID:America/New_York
X-WR-TIMEZONE:America/New_York
BEGIN:VEVENT
UID:338@debtcollective.org
DTSTART;TZID=America/New_York:20240409T190000
DTEND;TZID=America/New_York:20240409T200000
DTSTAMP:20240227T234516Z
URL:https://debtcollective.org/event/debt-disability-cohort-call/
SUMMARY:Debt & Disability: Cohort Call
DESCRIPTION:\nJoin the Debt Collective's Disabled Debtors Cohort to discuss
  the ways debt and disability shape our lives.  \n\n\n\nAccess notes: auto
  captioning and auto translation will be available. Additional access requ
 ests can be made upon registration or by contacting&nbsp\;margaret@debtcol
 lective.org&nbsp\;before April 2nd. \n\n\n\n\n \n \n \n \n\n
CATEGORIES:Event
END:VEVENT
BEGIN:VTIMEZONE
TZID:America/New_York
X-LIC-LOCATION:America/New_York
BEGIN:DAYLIGHT
DTSTART:20240310T030000
TZOFFSETFROM:-0500
TZOFFSETTO:-0400
TZNAME:EDT
END:DAYLIGHT
END:VTIMEZONE
END:VCALENDAR