BEGIN:VCALENDAR
VERSION:2.0
PRODID:-//wp-events-plugin.com//7.2.3.1//EN
TZID:America/New_York
X-WR-TIMEZONE:America/New_York
BEGIN:VEVENT
UID:364@debtcollective.org
DTSTART;TZID=America/New_York:20240611T190000
DTEND;TZID=America/New_York:20240611T200000
DTSTAMP:20240516T024339Z
URL:https://debtcollective.org/event/debt-disability-cohort-call-2/
SUMMARY:Debt &amp\; Disability Cohort Call
DESCRIPTION:\nJoin our Debt &amp\; Disability Cohort to discuss the ways d
 ebt and disability shape our lives\, and the projects we're working on to 
 highlight these intersections.\n\n\n\nAccess note: auto captioning and aut
 o translation will be available. Additional access requests can be made by
  contacting&nbsp\;margaret@debtcollective.org&nbsp\;before June 4th. \n
CATEGORIES:Event
END:VEVENT
BEGIN:VTIMEZONE
TZID:America/New_York
X-LIC-LOCATION:America/New_York
BEGIN:DAYLIGHT
DTSTART:20240310T030000
TZOFFSETFROM:-0500
TZOFFSETTO:-0400
TZNAME:EDT
END:DAYLIGHT
END:VTIMEZONE
END:VCALENDAR