BEGIN:VCALENDAR
VERSION:2.0
PRODID:-//wp-events-plugin.com//7.2.3.1//EN
TZID:America/New_York
X-WR-TIMEZONE:America/New_York
BEGIN:VEVENT
UID:367@debtcollective.org
DTSTART;TZID=America/New_York:20240521T183000
DTEND;TZID=America/New_York:20240521T203000
DTSTAMP:20240521T002300Z
URL:https://debtcollective.org/event/debt-collective-black-debtors-caucus-
 and-allies-social/
SUMMARY:Black Debtor's Caucus and Allies Social
DESCRIPTION:\n\n \n \n \n \n\n
CATEGORIES:Event
LOCATION:Union Market Rooftop\, 1309 5th St NE\, Washington\, DC\, 20002\, 
 United States
GEO:38.9086;-76.997517
X-APPLE-STRUCTURED-LOCATION;VALUE=URI;X-ADDRESS=1309 5th St NE\, Washington
 \, DC\, 20002\, United States;X-APPLE-RADIUS=100;X-TITLE=Union Market Roof
 top:geo:38.9086,-76.997517
END:VEVENT
BEGIN:VTIMEZONE
TZID:America/New_York
X-LIC-LOCATION:America/New_York
BEGIN:DAYLIGHT
DTSTART:20240310T030000
TZOFFSETFROM:-0500
TZOFFSETTO:-0400
TZNAME:EDT
END:DAYLIGHT
END:VTIMEZONE
END:VCALENDAR