BEGIN:VCALENDAR
VERSION:2.0
PRODID:-//wp-events-plugin.com//7.2.3.1//EN
TZID:America/New_York
X-WR-TIMEZONE:America/New_York
BEGIN:VEVENT
UID:371@debtcollective.org
DTSTART;TZID=America/New_York:20240731T200000
DTEND;TZID=America/New_York:20240731T213000
DTSTAMP:20240807T011821Z
URL:https://debtcollective.org/event/debt-and-labor/
SUMMARY:Breaking the Chains of Debt and Contingent Labor
DESCRIPTION:\nJoin us on July 31 as we host a deep dive discussion into two
  related crises facing higher ed workers and students alike: debt and labo
 r contingency. Often presented as both institutionally inevitable and as i
 ndividually shameful\, spiraling debt and rising labor precarity are in fa
 ct insidious products of policy decisions\, and together they are eroding 
 the conditions that make genuine higher education possible. Yet these wide
 ly shared and intersecting chains of debt and labor contingency also have 
 the potential to bring us together: as faculty\, students\, and workers\, 
 in new ways.\n\n\n\nHow can we grasp the systems of debt and labor precari
 ty that bind today’s academy in a way that can allow us to unleash poten
 tial for liberatory education\, in the classroom and beyond? And how can o
 ur unions and pedagogical strategies help create alliances between student
 s\, faculty\, and other campus workers—not by shamefully avoiding talk o
 f our “delinquent” debt or “adjunct” status\, but by placing them 
 front and center?”\n\n\n\nSpeakers: Joe Ramsey\, Chair of Contingency Ta
 sk Force\, Higher Education Labor United and Faculty at UMASS\, Boston\; J
 eri O'Bryan-Losee\, United University Professions (SUNY)\n\n\n\nFacilitate
 d by Jason Wozniak\, Debt Collective\n\n\n\n\nhttps://www.youtube.com/watc
 h?v=d0fblYCgQvM\n\n\n\n\nCo-Sponsored by Higher Education Labor United\n
CATEGORIES:Event
LOCATION:https://us02web.zoom.us/j/89742205098?pwd=Zmhsd8ryd60sQbtvNmgGrqPX
 Ak3aGs.1
END:VEVENT
BEGIN:VTIMEZONE
TZID:America/New_York
X-LIC-LOCATION:America/New_York
BEGIN:DAYLIGHT
DTSTART:20240310T030000
TZOFFSETFROM:-0500
TZOFFSETTO:-0400
TZNAME:EDT
END:DAYLIGHT
END:VTIMEZONE
END:VCALENDAR