BEGIN:VCALENDAR
VERSION:2.0
PRODID:-//wp-events-plugin.com//7.2.3.1//EN
TZID:America/New_York
X-WR-TIMEZONE:America/New_York
BEGIN:VEVENT
UID:731@debtcollective.org
DTSTART;TZID=America/New_York:20260511T190000
DTEND;TZID=America/New_York:20260511T200000
DTSTAMP:20260420T232150Z
URL:https://debtcollective.org/event/college-for-all-monthly-organizing-me
 eting-2026-05-11/
SUMMARY:College for All Monthly Organizing Meeting
DESCRIPTION:\nThis year\, we are trying to encourage Representatives and Se
 nators to co-sponsor the College for All Act. Please join us as we prepar
 e for meetings with Representatives and their staff\, plan our strategy\, 
 and fight together for our Right to Learn!\n
CATEGORIES:Event
END:VEVENT
BEGIN:VTIMEZONE
TZID:America/New_York
X-LIC-LOCATION:America/New_York
BEGIN:DAYLIGHT
DTSTART:20260308T030000
TZOFFSETFROM:-0500
TZOFFSETTO:-0400
TZNAME:EDT
END:DAYLIGHT
END:VTIMEZONE
END:VCALENDAR