BEGIN:VCALENDAR
VERSION:2.0
PRODID:-//wp-events-plugin.com//7.2.3.1//EN
TZID:America/New_York
X-WR-TIMEZONE:America/New_York
BEGIN:VEVENT
UID:661@debtcollective.org
DTSTART;TZID=America/New_York:20260326T170000
DTEND;TZID=America/New_York:20260326T183000
DTSTAMP:20260227T174331Z
URL:https://debtcollective.org/event/college-for-all-jubilee-school-tuitio
 n-prices/
SUMMARY:College for All Jubilee School: Tuition Pricing & Antitrust Law
DESCRIPTION:Join guest speaker Doha Mekki\, formerly the Principal Deputy A
 ssistant Attorney General in the DOJ’s antitrust division\, to learn how
  corporate consolidation in education drives up tuition and how antitrust 
 enforcement can help protect affordability.\n\n 	Doha Mekki is a Senior Fe
 llow at the University of California Berkeley Law School’s Center for Co
 nsumer Law &amp\; Economic Justice. Ms. Mekki served as Principal Deputy A
 ssistant Attorney General of the U.S. Department of Justice’s Antitrust 
 Division from 2021 until 2024\, and as the Acting Assistant Attorney Gener
 al until January 2025.In these roles\, she supervised civil and criminal e
 nforcement\, litigation\, trials\, appeals\, domestic and international po
 licy\, competition advocacy\, and the expert analysis program. She oversaw
  investigations and litigation against anticompetitive corporate practices
  in major markets including higher education\, digital markets\, housing\,
  agriculture\, and financial services\, among others.\n\nThis session is a
  part of our larger Jubilee School: College for All series.
CATEGORIES:Event
END:VEVENT
BEGIN:VTIMEZONE
TZID:America/New_York
X-LIC-LOCATION:America/New_York
BEGIN:DAYLIGHT
DTSTART:20260308T030000
TZOFFSETFROM:-0500
TZOFFSETTO:-0400
TZNAME:EDT
END:DAYLIGHT
END:VTIMEZONE
END:VCALENDAR