BEGIN:VCALENDAR
VERSION:2.0
PRODID:-//wp-events-plugin.com//7.2.3.1//EN
TZID:America/New_York
X-WR-TIMEZONE:America/New_York
BEGIN:VEVENT
UID:670@debtcollective.org
DTSTART;TZID=America/New_York:20260604T200000
DTEND;TZID=America/New_York:20260604T213000
DTSTAMP:20260216T181334Z
URL:https://debtcollective.org/event/college-for-all-jubilee-school-labor-
 reform/
SUMMARY:College for All Jubilee School: Divesting the University from State
  Violence
DESCRIPTION:In the United States\, higher education has been careening towa
 rd collapse as a result of state and federal disinvestment\, institutional
  segregation\, the erosion of academic labor\, plutocratic governance\, an
 d the explosion of for-profit higher education that cynically leverages Am
 ericans' lack of time and opportunity. As a result\, public support for co
 lleges and universities is eroding. We must fight back to win tuition free
  public college\, dignified labor conditions\, academic freedom\, and debt
  cancellation.\n\nJoin us as we unpack these problems and their solutions 
 (together with our partners at HELU) weekly in Spring 2026. We will welcom
 e speakers who are experts in each of these problems\, as well as those wo
 rking towards policy solutions to them\, including College for All\, a fed
 eral bill that would make public colleges and universities tuition free.\n
 \nThis section will discuss efforts around the country related to divestin
 g the university from state violence. More information and speaker list to
  come.
CATEGORIES:Event
END:VEVENT
BEGIN:VTIMEZONE
TZID:America/New_York
X-LIC-LOCATION:America/New_York
BEGIN:DAYLIGHT
DTSTART:20260308T030000
TZOFFSETFROM:-0500
TZOFFSETTO:-0400
TZNAME:EDT
END:DAYLIGHT
END:VTIMEZONE
END:VCALENDAR