BEGIN:VCALENDAR
VERSION:2.0
PRODID:-//wp-events-plugin.com//7.2.3.1//EN
TZID:America/New_York
X-WR-TIMEZONE:America/New_York
BEGIN:VEVENT
UID:676@debtcollective.org
DTSTART;TZID=America/New_York:20260813T170000
DTEND;TZID=America/New_York:20260813T183000
DTSTAMP:20260227T203954Z
URL:https://debtcollective.org/event/college-for-all-jubilee-school-how-to
 -win/
SUMMARY:College for All Jubilee School: How to Win
DESCRIPTION:This final session of the College for All Jubilee School series
  will look forward and discuss how we can win tuition free public college\
 , dignified labor conditions\, academic freedom\, and debt cancellation. S
 peakers will include Aissa Canchola Bañez and others to be announced (bio
 s below).\n\n 	Aissa Canchola Bañez is Policy Director at Protect Borrowe
 rs\, formerly known as the Student Borrower Protection Center. Protect Bor
 rowers is a non profit policy\, litigation and advocacy organization fight
 ing to build an economy where people come first and debt doesn’t limit o
 pportunity. As policy director\, she oversees the organization’s work ad
 vancing policies that alleviate the crushing burden of debt on working fam
 ilies across the country. Previously\, she led legislative development and
  strategy as Legislative Director and Deputy Chief of Staff for Congresswo
 man Ayanna Pressley. Prior to that she served as a Policy Advisor for the 
 Senate Health\, Education\, Labor and Pensions Committee where she handled
  higher education affordability and access issues and also spent time at t
 he Consumer Financial Protection Bureau where she fought to protect studen
 ts and young consumers from being ripped off.\n
CATEGORIES:Event
END:VEVENT
BEGIN:VTIMEZONE
TZID:America/New_York
X-LIC-LOCATION:America/New_York
BEGIN:DAYLIGHT
DTSTART:20260308T030000
TZOFFSETFROM:-0500
TZOFFSETTO:-0400
TZNAME:EDT
END:DAYLIGHT
END:VTIMEZONE
END:VCALENDAR