BEGIN:VCALENDAR
VERSION:2.0
PRODID:-//wp-events-plugin.com//7.2.3.1//EN
TZID:America/New_York
X-WR-TIMEZONE:America/New_York
BEGIN:VEVENT
UID:672@debtcollective.org
DTSTART;TZID=America/New_York:20260618T170000
DTEND;TZID=America/New_York:20260618T183000
DTSTAMP:20260227T203821Z
URL:https://debtcollective.org/event/college-for-all-jubilee-school-fundin
 g-free-college/
SUMMARY:College for All Jubilee School: Funding Free College
DESCRIPTION:This workshop\, led by Massachusetts Teachers Association Presi
 dent Max Page\, will engage participants in a discussion about how togethe
 r we can achieve debt-free public college by taxing the very wealthy.  We
 ’ll share some of the history of college costs\, hear from participants 
 about their efforts\, look at some recent wins\, and explore resources for
  making debt-free public college a reality. \n\n 	Max Page is President of
  the Massachusetts Teachers Association\, the 117\,000 member union of edu
 cators in Massachusetts public schools and colleges\, and a professor of a
 rchitecture and history at the University of Massachusetts Amherst.\n\nThi
 s session is a part of the larger Jubilee School: College for All series.
CATEGORIES:Event
END:VEVENT
BEGIN:VTIMEZONE
TZID:America/New_York
X-LIC-LOCATION:America/New_York
BEGIN:DAYLIGHT
DTSTART:20260308T030000
TZOFFSETFROM:-0500
TZOFFSETTO:-0400
TZNAME:EDT
END:DAYLIGHT
END:VTIMEZONE
END:VCALENDAR