BEGIN:VCALENDAR
VERSION:2.0
PRODID:-//wp-events-plugin.com//7.2.3.1//EN
TZID:America/New_York
X-WR-TIMEZONE:America/New_York
BEGIN:VEVENT
UID:663@debtcollective.org
DTSTART;TZID=America/New_York:20260423T170000
DTEND;TZID=America/New_York:20260423T183000
DTSTAMP:20260304T192230Z
URL:https://debtcollective.org/event/college-for-all-jubilee-school-erosio
 n-of-academic-labor/
SUMMARY:College for All Jubilee School: Erosion of Academic Labor
DESCRIPTION:Colleges and universities are core to our communities and econo
 my. How do we grow the higher ed labor movement while building consciousne
 ss of ourselves as workers? Join speakers from HELU to explore strategies 
 for building connections and trust between very different kinds of workers
  so that we can move in coordinated action in the future.\n\nHigher Educat
 ion Labor United (HELU) is a national organization founded in 2021 to unit
 e workers throughout U.S. higher education. HELU brings together unions th
 at represent staff\, student workers\, adjunct\, contingent\, and tenured 
 faculty\, postdocs\, university health system workers\, and others. We com
 e together to create and pursue a unified vision for higher education and 
 to add our strength to a reinvigorated U.S. labor movement. Unions and org
 anizations representing over 225\,000 higher ed and allied workers across 
 the U.S. have joined HELU as member organizations.\n\nThis session is a pa
 rt of the larger Jubilee School: College for All series.
CATEGORIES:Event
END:VEVENT
BEGIN:VTIMEZONE
TZID:America/New_York
X-LIC-LOCATION:America/New_York
BEGIN:DAYLIGHT
DTSTART:20260308T030000
TZOFFSETFROM:-0500
TZOFFSETTO:-0400
TZNAME:EDT
END:DAYLIGHT
END:VTIMEZONE
END:VCALENDAR