BEGIN:VCALENDAR
VERSION:2.0
PRODID:-//wp-events-plugin.com//7.2.3.1//EN
TZID:America/New_York
X-WR-TIMEZONE:America/New_York
BEGIN:VEVENT
UID:291@debtcollective.org
DTSTART;TZID=America/New_York:20240103T190000
DTEND;TZID=America/New_York:20240103T200000
DTSTAMP:20231214T164112Z
URL:https://debtcollective.org/event/boston-demands-debt-cancellation-4/
SUMMARY:Boston Demands Debt Cancellation
DESCRIPTION:\nHundreds of people in Boston have filled out the Student Debt
  Release Tool to demand student debt relief. Now it’s time to build our 
 power. Join debtors from your area to meet and strategize about how to inc
 rease the pressure on our elected representatives to take action! Please j
 oin our meeting on Jan 3rd at 7:00pm.\n
CATEGORIES:Event
END:VEVENT
BEGIN:VTIMEZONE
TZID:America/New_York
X-LIC-LOCATION:America/New_York
BEGIN:STANDARD
DTSTART:20231105T010000
TZOFFSETFROM:-0400
TZOFFSETTO:-0500
TZNAME:EST
END:STANDARD
END:VTIMEZONE
END:VCALENDAR