BEGIN:VCALENDAR
VERSION:2.0
PRODID:-//wp-events-plugin.com//7.2.3.1//EN
TZID:America/New_York
X-WR-TIMEZONE:America/New_York
BEGIN:VEVENT
UID:101@debtcollective.org
DTSTART;TZID=America/New_York:20230226T140000
DTEND;TZID=America/New_York:20230226T150000
DTSTAMP:20230130T194014Z
URL:https://debtcollective.org/event/black-women-dreamspace-2023-02-26/
SUMMARY:Black Women DreamSpace
DESCRIPTION:\nBlack Women's DreamSpace: A Black Women's Debtors Assembly sp
 ecifically for Black women\, and supporters of Black women\, to gather. A 
 dream space for Black women to collectively freedom dream\, together\, ima
 gining new visions that will transform us all. Once Black women are free\,
  we are all free! Imagine a life without debt feels like... Release guilt 
 and shame with us and Freedom Dream!\n
CATEGORIES:Call
END:VEVENT
BEGIN:VTIMEZONE
TZID:America/New_York
X-LIC-LOCATION:America/New_York
BEGIN:STANDARD
DTSTART:20221106T010000
TZOFFSETFROM:-0400
TZOFFSETTO:-0500
TZNAME:EST
END:STANDARD
END:VTIMEZONE
END:VCALENDAR