BEGIN:VCALENDAR
VERSION:2.0
PRODID:-//wp-events-plugin.com//7.2.3.1//EN
TZID:America/New_York
X-WR-TIMEZONE:America/New_York
BEGIN:VEVENT
UID:693@debtcollective.org
DTSTART;TZID=America/New_York:20260227T130000
DTEND;TZID=America/New_York:20260227T140000
DTSTAMP:20260128T195118Z
URL:https://debtcollective.org/event/black-anti-fascism-lessons-from-the-p
 ast-for-the-current-moment-beyond/
SUMMARY:Black Anti-Fascism: Lessons from the Past for the Current Moment & 
 Beyond
DESCRIPTION:The US state is now occupying the city of Minneapolis after mur
 dering Renée Good and Alex Pretti. It is terrifying migrant communities a
 nd assaulting residents in the name of anti-Blackness\, targeting Somalis 
 and people of color on the same ground where it killed George Floyd in 202
 0.\n\nFacilitated by Debt Collective Visionary Escalator Dr. Shamell Bell 
 and co-sponsored by the Coalition for Action in Higher Education\, this ev
 ent features leading scholar-activists Charisse Burden-Stelly and Jeanelle
  K. Hope in conversation on why we must draw on the Black Anti-Fascist Tra
 dition in this moment. From Ida B. Wells to Angela Davis\, W.E.B Du Bois\,
  and the Black Panther Party\, Africans in the diaspora have much to teach
  us about the relationship of anti-Blackness to fascism\, authoritarianism
 \, and state repression. They have also taught us much about how to organi
 ze against it.\n\n\n\n\nFACILITATORS:\nDr. Shamell Bell &amp\; Bill V. Mul
 len\, Coalition for Action in Higher Education\nSPEAKERS:\nCharisse Burden
 -Stelly is Associate Professor at Wayne State University.\nJeanelle K. Hop
 e is a native of Oakland\, California. She is an independent scholar of Bl
 ack political thought\, culture and social movements.\n&nbsp\;\n\n\n.img-l
 ink {display: block\;  width: 100%\;  text-align: center\;}\n.img-link a i
 mg:hover\, .img-link a img:focus {\n  box-shadow: 0px 2px 4px #000\;\n  tr
 ansition-property: box-shadow\;\n  transition-duration: 0.2s\;\n  transiti
 on-timing-function: ease-in-out\;\n}\n
CATEGORIES:Event
LOCATION:https://zoom.us/meeting/register/wbKFs7OPS522U1XhY2esqA#/registrat
 ion
END:VEVENT
BEGIN:VTIMEZONE
TZID:America/New_York
X-LIC-LOCATION:America/New_York
BEGIN:STANDARD
DTSTART:20251102T010000
TZOFFSETFROM:-0400
TZOFFSETTO:-0500
TZNAME:EST
END:STANDARD
END:VTIMEZONE
END:VCALENDAR