BEGIN:VCALENDAR
VERSION:2.0
PRODID:-//wp-events-plugin.com//7.2.3.1//EN
TZID:America/New_York
X-WR-TIMEZONE:America/New_York
BEGIN:VEVENT
UID:119@debtcollective.org
DTSTART;TZID=America/New_York:20230223T180000
DTEND;TZID=America/New_York:20230223T200000
DTSTAMP:20230215T045014Z
URL:https://debtcollective.org/event/a-national-virtual-training-on-people
 -power-vs-the-supreme-court/
SUMMARY:A National Virtual Training On People Power vs. The Supreme Court
DESCRIPTION:\nIf we want to win cancellation\, we need to understand the co
 urt system. Join us for a crash course on the different court systems\, ap
 pointments of judges\, and dark money in politics that dictates what decis
 ions get made about and for America. Hosted by Debt Collective and Demand 
 Justice.\n
CATEGORIES:Event
END:VEVENT
BEGIN:VTIMEZONE
TZID:America/New_York
X-LIC-LOCATION:America/New_York
BEGIN:STANDARD
DTSTART:20221106T010000
TZOFFSETFROM:-0400
TZOFFSETTO:-0500
TZNAME:EST
END:STANDARD
END:VTIMEZONE
END:VCALENDAR