BEGIN:VCALENDAR
VERSION:2.0
PRODID:-//wp-events-plugin.com//7.2.3.1//EN
TZID:America/New_York
X-WR-TIMEZONE:America/New_York
BEGIN:VEVENT
UID:345@debtcollective.org
DTSTART;TZID=America/New_York:20240422T200000
DTEND;TZID=America/New_York:20240422T210000
DTSTAMP:20240415T200133Z
URL:https://debtcollective.org/event/a-debt-collective-conversation-with-e
 lena-botella-3/
SUMMARY:A Debt Collective conversation with Elena Botella
DESCRIPTION:Join Debt Collective for an engaging book talk with investigati
 ve journalist Elena Botella as she discusses her eye-opening work\, "Delin
 quent." Formerly an industry insider at Capital One\, Botella exposes the 
 deceptive tactics banks employ to trap American borrowers into debt they c
 an't pay back.
CATEGORIES:Event
LOCATION:https://us02web.zoom.us/meeting/register/tZ0rdeusqj0rHtfe4M2zvkleD
 oEWhv0NRxsY
END:VEVENT
BEGIN:VTIMEZONE
TZID:America/New_York
X-LIC-LOCATION:America/New_York
BEGIN:DAYLIGHT
DTSTART:20240310T030000
TZOFFSETFROM:-0500
TZOFFSETTO:-0400
TZNAME:EDT
END:DAYLIGHT
END:VTIMEZONE
END:VCALENDAR